BEGIN:VCALENDAR
VERSION:2.0
PRODID:-//Tukios.com/
BEGIN:VEVENT
UID:41a71ff4-d015-4e01-a5a2-e05f168a8837@obits.fowlerkennedyfuneralhome.com
DTSTAMP:20260420T184619Z
DTSTART:20260502T150000Z
DTEND:20260502T160000Z
SUMMARY:Life Celebration
DESCRIPTION:
URL:https://obits.fowlerkennedyfuneralhome.com/charles-bartlett-jr
LOCATION: 1317 Main St  Concord MA 01742
GEO:42.4546316;-71.3950085
END:VEVENT
END:VCALENDAR